BEGIN:VCALENDAR
VERSION:2.0
PRODID:-//TOTICO - ECPv6.15.20//NONSGML v1.0//EN
CALSCALE:GREGORIAN
METHOD:PUBLISH
X-ORIGINAL-URL:https://www.totico.co.uk
X-WR-CALDESC:Events for TOTICO
REFRESH-INTERVAL;VALUE=DURATION:PT1H
X-Robots-Tag:noindex
X-PUBLISHED-TTL:PT1H
BEGIN:VTIMEZONE
TZID:Europe/London
BEGIN:DAYLIGHT
TZOFFSETFROM:+0000
TZOFFSETTO:+0100
TZNAME:BST
DTSTART:20230326T010000
END:DAYLIGHT
BEGIN:STANDARD
TZOFFSETFROM:+0100
TZOFFSETTO:+0000
TZNAME:GMT
DTSTART:20231029T010000
END:STANDARD
BEGIN:DAYLIGHT
TZOFFSETFROM:+0000
TZOFFSETTO:+0100
TZNAME:BST
DTSTART:20240331T010000
END:DAYLIGHT
BEGIN:STANDARD
TZOFFSETFROM:+0100
TZOFFSETTO:+0000
TZNAME:GMT
DTSTART:20241027T010000
END:STANDARD
BEGIN:DAYLIGHT
TZOFFSETFROM:+0000
TZOFFSETTO:+0100
TZNAME:BST
DTSTART:20250330T010000
END:DAYLIGHT
BEGIN:STANDARD
TZOFFSETFROM:+0100
TZOFFSETTO:+0000
TZNAME:GMT
DTSTART:20251026T010000
END:STANDARD
END:VTIMEZONE
BEGIN:VEVENT
DTSTART;TZID=Europe/London:20240407T130000
DTEND;TZID=Europe/London:20240407T170000
DTSTAMP:20260423T025302
CREATED:20240128T170040Z
LAST-MODIFIED:20240128T170040Z
UID:514-1712494800-1712509200@www.totico.co.uk
SUMMARY:Wedding Fayre
DESCRIPTION:Come and meet us at \nCulter Mills Social Club Social Club
URL:https://www.totico.co.uk/event/wedding-fayre/
LOCATION:Culter Mills Social Club\, 25 School Crescent\, Peterculter\, AB14 0QJ\, United Kingdom
CATEGORIES:Public
ATTACH;FMTTYPE=image/jpeg:https://www.totico.co.uk/wp-content/uploads/2024/01/Culter-Mills-Wedding-Fayre-Ad.jpg
END:VEVENT
END:VCALENDAR