BEGIN:VCALENDAR
VERSION:2.0
PRODID:-//TOTICO - ECPv6.15.20//NONSGML v1.0//EN
CALSCALE:GREGORIAN
METHOD:PUBLISH
X-WR-CALNAME:TOTICO
X-ORIGINAL-URL:https://www.totico.co.uk
X-WR-CALDESC:Events for TOTICO
REFRESH-INTERVAL;VALUE=DURATION:PT1H
X-Robots-Tag:noindex
X-PUBLISHED-TTL:PT1H
BEGIN:VTIMEZONE
TZID:Europe/London
BEGIN:DAYLIGHT
TZOFFSETFROM:+0000
TZOFFSETTO:+0100
TZNAME:BST
DTSTART:20250330T010000
END:DAYLIGHT
BEGIN:STANDARD
TZOFFSETFROM:+0100
TZOFFSETTO:+0000
TZNAME:GMT
DTSTART:20251026T010000
END:STANDARD
BEGIN:DAYLIGHT
TZOFFSETFROM:+0000
TZOFFSETTO:+0100
TZNAME:BST
DTSTART:20260329T010000
END:DAYLIGHT
BEGIN:STANDARD
TZOFFSETFROM:+0100
TZOFFSETTO:+0000
TZNAME:GMT
DTSTART:20261025T010000
END:STANDARD
BEGIN:DAYLIGHT
TZOFFSETFROM:+0000
TZOFFSETTO:+0100
TZNAME:BST
DTSTART:20270328T010000
END:DAYLIGHT
BEGIN:STANDARD
TZOFFSETFROM:+0100
TZOFFSETTO:+0000
TZNAME:GMT
DTSTART:20271031T010000
END:STANDARD
END:VTIMEZONE
BEGIN:VEVENT
DTSTART;VALUE=DATE:20260926
DTEND;VALUE=DATE:20260927
DTSTAMP:20260421T201416
CREATED:20251113T190749Z
LAST-MODIFIED:20251212T214058Z
UID:782-1790380800-1790467199@www.totico.co.uk
SUMMARY:Osnaburg Bar
DESCRIPTION:Another dancing night at the Osnaburg.   \nSee you there 🙂
URL:https://www.totico.co.uk/event/osnaburg-bar-2/
LOCATION:Osnaburg Bar\, 23 Osnaburg Street\, Forfar\, Forfar\, DD8 2AA\, United Kingdom
CATEGORIES:Public
ATTACH;FMTTYPE=image/png:https://www.totico.co.uk/wp-content/uploads/Osnaburg.png
END:VEVENT
END:VCALENDAR