BEGIN:VCALENDAR
VERSION:2.0
PRODID:-//TOTICO - ECPv6.15.20//NONSGML v1.0//EN
CALSCALE:GREGORIAN
METHOD:PUBLISH
X-WR-CALNAME:TOTICO
X-ORIGINAL-URL:https://www.totico.co.uk
X-WR-CALDESC:Events for TOTICO
REFRESH-INTERVAL;VALUE=DURATION:PT1H
X-Robots-Tag:noindex
X-PUBLISHED-TTL:PT1H
BEGIN:VTIMEZONE
TZID:Europe/London
BEGIN:DAYLIGHT
TZOFFSETFROM:+0000
TZOFFSETTO:+0100
TZNAME:BST
DTSTART:20250330T010000
END:DAYLIGHT
BEGIN:STANDARD
TZOFFSETFROM:+0100
TZOFFSETTO:+0000
TZNAME:GMT
DTSTART:20251026T010000
END:STANDARD
BEGIN:DAYLIGHT
TZOFFSETFROM:+0000
TZOFFSETTO:+0100
TZNAME:BST
DTSTART:20260329T010000
END:DAYLIGHT
BEGIN:STANDARD
TZOFFSETFROM:+0100
TZOFFSETTO:+0000
TZNAME:GMT
DTSTART:20261025T010000
END:STANDARD
BEGIN:DAYLIGHT
TZOFFSETFROM:+0000
TZOFFSETTO:+0100
TZNAME:BST
DTSTART:20270328T010000
END:DAYLIGHT
BEGIN:STANDARD
TZOFFSETFROM:+0100
TZOFFSETTO:+0000
TZNAME:GMT
DTSTART:20271031T010000
END:STANDARD
BEGIN:DAYLIGHT
TZOFFSETFROM:+0000
TZOFFSETTO:+0100
TZNAME:BST
DTSTART:20280326T010000
END:DAYLIGHT
BEGIN:STANDARD
TZOFFSETFROM:+0100
TZOFFSETTO:+0000
TZNAME:GMT
DTSTART:20281029T010000
END:STANDARD
END:VTIMEZONE
BEGIN:VEVENT
DTSTART;TZID=Europe/London:20261212T200000
DTEND;TZID=Europe/London:20261212T230000
DTSTAMP:20260422T012253
CREATED:20260409T185735Z
LAST-MODIFIED:20260409T185748Z
UID:897-1797105600-1797116400@www.totico.co.uk
SUMMARY:Burnett Arms - Banchory
DESCRIPTION:Xmas party time.\nYes\, we’ll do some xmas songs.   Maybe even Elf suits !
URL:https://www.totico.co.uk/event/burnett-arms-banchory-3/
LOCATION:Burnett Arms\, 25 High Street\, Banchory\, AB31 5TD\, United Kingdom
CATEGORIES:Public
ATTACH;FMTTYPE=image/jpeg:https://www.totico.co.uk/wp-content/uploads/Burnett-Arms.jpg
END:VEVENT
BEGIN:VEVENT
DTSTART;VALUE=DATE:20261219
DTEND;VALUE=DATE:20261220
DTSTAMP:20260422T012253
CREATED:20251113T191656Z
LAST-MODIFIED:20251113T191841Z
UID:788-1797638400-1797724799@www.totico.co.uk
SUMMARY:Osnaburg
DESCRIPTION:Xmas party anyone ?   \nThis’ll be another wicked night !
URL:https://www.totico.co.uk/event/osnaburg/
CATEGORIES:Public
ATTACH;FMTTYPE=image/png:https://www.totico.co.uk/wp-content/uploads/Osnaburg.png
END:VEVENT
BEGIN:VEVENT
DTSTART;VALUE=DATE:20261226
DTEND;VALUE=DATE:20261227
DTSTAMP:20260422T012253
CREATED:20251113T192140Z
LAST-MODIFIED:20251113T192209Z
UID:790-1798243200-1798329599@www.totico.co.uk
SUMMARY:Harbour Lights
DESCRIPTION:Just after xmas – come relax and have a party
URL:https://www.totico.co.uk/event/harbour-lights/
LOCATION:Harbour Lights\, 122-124 Longate\, Peterhead\, Peterhead\, AB42 1JU\, United Kingdom
CATEGORIES:Public
ATTACH;FMTTYPE=image/jpeg:https://www.totico.co.uk/wp-content/uploads/Harbour-Lights.jpg
END:VEVENT
BEGIN:VEVENT
DTSTART;TZID=Europe/London:20261231T090000
DTEND;TZID=Europe/London:20270101T003000
DTSTAMP:20260422T012253
CREATED:20260409T213336Z
LAST-MODIFIED:20260409T213347Z
UID:901-1798707600-1798763400@www.totico.co.uk
SUMMARY:Westport Bar
DESCRIPTION:New years party at the Westport Bar.\nGet ready to dance !
URL:https://www.totico.co.uk/event/westport-bar/
LOCATION:Westport Bar\, 23 Keptie Street\, Arbroath\, DD11 3AE\, United Kingdom
CATEGORIES:Public
ATTACH;FMTTYPE=image/jpeg:https://www.totico.co.uk/wp-content/uploads/Westport.jpg
END:VEVENT
END:VCALENDAR