BEGIN:VCALENDAR
VERSION:2.0
PRODID:-//TOTICO - ECPv6.15.20//NONSGML v1.0//EN
CALSCALE:GREGORIAN
METHOD:PUBLISH
X-ORIGINAL-URL:https://www.totico.co.uk
X-WR-CALDESC:Events for TOTICO
REFRESH-INTERVAL;VALUE=DURATION:PT1H
X-Robots-Tag:noindex
X-PUBLISHED-TTL:PT1H
BEGIN:VTIMEZONE
TZID:Europe/London
BEGIN:DAYLIGHT
TZOFFSETFROM:+0000
TZOFFSETTO:+0100
TZNAME:BST
DTSTART:20220327T010000
END:DAYLIGHT
BEGIN:STANDARD
TZOFFSETFROM:+0100
TZOFFSETTO:+0000
TZNAME:GMT
DTSTART:20221030T010000
END:STANDARD
BEGIN:DAYLIGHT
TZOFFSETFROM:+0000
TZOFFSETTO:+0100
TZNAME:BST
DTSTART:20230326T010000
END:DAYLIGHT
BEGIN:STANDARD
TZOFFSETFROM:+0100
TZOFFSETTO:+0000
TZNAME:GMT
DTSTART:20231029T010000
END:STANDARD
BEGIN:DAYLIGHT
TZOFFSETFROM:+0000
TZOFFSETTO:+0100
TZNAME:BST
DTSTART:20240331T010000
END:DAYLIGHT
BEGIN:STANDARD
TZOFFSETFROM:+0100
TZOFFSETTO:+0000
TZNAME:GMT
DTSTART:20241027T010000
END:STANDARD
BEGIN:DAYLIGHT
TZOFFSETFROM:+0000
TZOFFSETTO:+0100
TZNAME:BST
DTSTART:20250330T010000
END:DAYLIGHT
BEGIN:STANDARD
TZOFFSETFROM:+0100
TZOFFSETTO:+0000
TZNAME:GMT
DTSTART:20251026T010000
END:STANDARD
BEGIN:DAYLIGHT
TZOFFSETFROM:+0000
TZOFFSETTO:+0100
TZNAME:BST
DTSTART:20260329T010000
END:DAYLIGHT
BEGIN:STANDARD
TZOFFSETFROM:+0100
TZOFFSETTO:+0000
TZNAME:GMT
DTSTART:20261025T010000
END:STANDARD
BEGIN:DAYLIGHT
TZOFFSETFROM:+0000
TZOFFSETTO:+0100
TZNAME:BST
DTSTART:20270328T010000
END:DAYLIGHT
BEGIN:STANDARD
TZOFFSETFROM:+0100
TZOFFSETTO:+0000
TZNAME:GMT
DTSTART:20271031T010000
END:STANDARD
END:VTIMEZONE
BEGIN:VEVENT
DTSTART;VALUE=DATE:20260404
DTEND;VALUE=DATE:20260405
DTSTAMP:20260421T123400
CREATED:20251113T184711Z
LAST-MODIFIED:20260128T133450Z
UID:764-1775260800-1775347199@www.totico.co.uk
SUMMARY:Tipsy Cow - Aberdeen
DESCRIPTION:A new venue for us…. This’ll be fun 🙂
URL:https://www.totico.co.uk/event/tipsy-cow-aberdeen/
LOCATION:Tipsy Cow\, 42-44 Market Street\, Aberdeen\, Aberdeen\, AB11 5PL\, United Kingdom
CATEGORIES:Public
ATTACH;FMTTYPE=image/jpeg:https://www.totico.co.uk/wp-content/uploads/Tipsy-Cow-1.jpg
END:VEVENT
BEGIN:VEVENT
DTSTART;TZID=Europe/London:20251227T213000
DTEND;TZID=Europe/London:20251227T233000
DTSTAMP:20260421T123400
CREATED:20250602T131929Z
LAST-MODIFIED:20251117T165045Z
UID:701-1766871000-1766878200@www.totico.co.uk
SUMMARY:Harbour Lights - Peterhead
DESCRIPTION:We got asked back 🙂\nThis’ll be a wicked night again.
URL:https://www.totico.co.uk/event/harbour-lights-peterhead-2/
LOCATION:Harbour Lights\, 122-124 Longate\, Peterhead\, Peterhead\, AB42 1JU\, United Kingdom
CATEGORIES:Public
ATTACH;FMTTYPE=image/jpeg:https://www.totico.co.uk/wp-content/uploads/Harbour-Lights.jpg
END:VEVENT
BEGIN:VEVENT
DTSTART;TZID=Europe/London:20251212T080000
DTEND;TZID=Europe/London:20251212T170000
DTSTAMP:20260421T123400
CREATED:20251212T215356Z
LAST-MODIFIED:20251212T215356Z
UID:829-1765526400-1765558800@www.totico.co.uk
SUMMARY:New Years At Westport Bar Abroath
DESCRIPTION:This is gonna be a belter !
URL:https://www.totico.co.uk/event/new-years-at-westport-bar-abroath/
CATEGORIES:Public
ATTACH;FMTTYPE=image/jpeg:https://www.totico.co.uk/wp-content/uploads/Westport.jpg
END:VEVENT
BEGIN:VEVENT
DTSTART;VALUE=DATE:20251206
DTEND;VALUE=DATE:20251207
DTSTAMP:20260421T123400
CREATED:20240724T151014Z
LAST-MODIFIED:20240724T151014Z
UID:570-1764979200-1765065599@www.totico.co.uk
SUMMARY:O'Donoghues
DESCRIPTION:Its party night !
URL:https://www.totico.co.uk/event/odonoghues/
LOCATION:O’Donoghues\, 44 Justice Mill Lanes\, Aberdeen\, AB116EP\, United Kingdom
CATEGORIES:Public
ATTACH;FMTTYPE=image/jpeg:https://www.totico.co.uk/wp-content/uploads/2024/07/ODonoghues.jpg
END:VEVENT
BEGIN:VEVENT
DTSTART;TZID=Europe/London:20251004T200000
DTEND;TZID=Europe/London:20251004T230000
DTSTAMP:20260421T123400
CREATED:20250227T191302Z
LAST-MODIFIED:20250227T191839Z
UID:672-1759608000-1759618800@www.totico.co.uk
SUMMARY:Osnaburg Bar - Forfar
DESCRIPTION:Another new venue…. This place is well known for an ace crowd !
URL:https://www.totico.co.uk/event/osnaburg-bar-forfar/
LOCATION:Osnaburg Bar\, 23 Osnaburg Street\, Forfar\, Forfar\, DD8 2AA\, United Kingdom
CATEGORIES:Public
END:VEVENT
BEGIN:VEVENT
DTSTART;VALUE=DATE:20250927
DTEND;VALUE=DATE:20250928
DTSTAMP:20260421T123400
CREATED:20240724T150824Z
LAST-MODIFIED:20240724T150836Z
UID:565-1758931200-1759017599@www.totico.co.uk
SUMMARY:O'Donoghues
DESCRIPTION:Here we go again 🙂
URL:https://www.totico.co.uk/event/odonogues-3/
LOCATION:O’Donoghues\, 44 Justice Mill Lanes\, Aberdeen\, AB116EP\, United Kingdom
CATEGORIES:Public
ATTACH;FMTTYPE=image/jpeg:https://www.totico.co.uk/wp-content/uploads/2024/07/ODonoghues.jpg
END:VEVENT
BEGIN:VEVENT
DTSTART;VALUE=DATE:20250906
DTEND;VALUE=DATE:20250907
DTSTAMP:20260421T123400
CREATED:20241112T224141Z
LAST-MODIFIED:20241112T224313Z
UID:632-1757116800-1757203199@www.totico.co.uk
SUMMARY:Maggies Ball - 2025
DESCRIPTION:Maggies is such an important charity\, we are honoured to support this ball again this year.\nGet tickets from Maggies
URL:https://www.totico.co.uk/event/maggies-ball-2025/
LOCATION:Chester Hotel\, 55-63 Queens Road\, Aberdeen\, AB15 4YP\, United Kingdom
CATEGORIES:Public,Ticketed
ORGANIZER;CN="Maggies Aberdeen":MAILTO:aberdeenfundraising@maggies.org
END:VEVENT
BEGIN:VEVENT
DTSTART;VALUE=DATE:20250823
DTEND;VALUE=DATE:20250824
DTSTAMP:20260421T123400
CREATED:20241112T223912Z
LAST-MODIFIED:20241112T224244Z
UID:630-1755907200-1755993599@www.totico.co.uk
SUMMARY:Kingennie Music Festival 2025
DESCRIPTION:Always an ace event this.\nGet yourself along and have a great day out.\nWe play 1800 to 1930.
URL:https://www.totico.co.uk/event/kingennie-music-festival/
LOCATION:Forbes Of Kingennie Country Resort\, Kingennie\, Broughty Ferry\, Dundee\, DD5 3RD\, United Kingdom
CATEGORIES:Public,Ticketed
ORGANIZER;CN="Forbes Of Kingennie Country Resort":MAILTO:events@forbesofkingennie.com
END:VEVENT
BEGIN:VEVENT
DTSTART;VALUE=DATE:20250614
DTEND;VALUE=DATE:20250615
DTSTAMP:20260421T123401
CREATED:20240724T150718Z
LAST-MODIFIED:20240724T150849Z
UID:563-1749859200-1749945599@www.totico.co.uk
SUMMARY:O'Donoghues
DESCRIPTION:Another night of fun
URL:https://www.totico.co.uk/event/odonogues-2/
LOCATION:O’Donoghues\, 44 Justice Mill Lanes\, Aberdeen\, AB116EP\, United Kingdom
CATEGORIES:Public
ATTACH;FMTTYPE=image/jpeg:https://www.totico.co.uk/wp-content/uploads/2024/07/ODonoghues.jpg
END:VEVENT
BEGIN:VEVENT
DTSTART;TZID=Europe/London:20250531T190000
DTEND;TZID=Europe/London:20250531T223000
DTSTAMP:20260421T123401
CREATED:20250227T185757Z
LAST-MODIFIED:20250227T185757Z
UID:662-1748718000-1748730600@www.totico.co.uk
SUMMARY:Harbour Lights - Peterhead
DESCRIPTION:New venue for us…. Looking forward to this 🙂
URL:https://www.totico.co.uk/event/harbour-lights-peterhead/
LOCATION:Harbour Lights\, 122-124 Longate\, Peterhead\, Peterhead\, AB42 1JU\, United Kingdom
CATEGORIES:Public
ATTACH;FMTTYPE=image/jpeg:https://www.totico.co.uk/wp-content/uploads/Harbour-Lights.jpg
END:VEVENT
BEGIN:VEVENT
DTSTART;VALUE=DATE:20250426
DTEND;VALUE=DATE:20250427
DTSTAMP:20260421T123401
CREATED:20240724T150535Z
LAST-MODIFIED:20240724T150907Z
UID:559-1745625600-1745711999@www.totico.co.uk
SUMMARY:O'Donoghues
DESCRIPTION:Lots of fun to be had at this ace venue
URL:https://www.totico.co.uk/event/odonogues/
LOCATION:O’Donoghues\, 44 Justice Mill Lanes\, Aberdeen\, AB116EP\, United Kingdom
CATEGORIES:Public
ATTACH;FMTTYPE=image/jpeg:https://www.totico.co.uk/wp-content/uploads/2024/07/ODonoghues.jpg
END:VEVENT
BEGIN:VEVENT
DTSTART;VALUE=DATE:20240907
DTEND;VALUE=DATE:20240908
DTSTAMP:20260421T123401
CREATED:20240128T170326Z
LAST-MODIFIED:20240304T104022Z
UID:523-1725667200-1725753599@www.totico.co.uk
SUMMARY:Maggies Ball - Aberdeen
DESCRIPTION:One of the highlights of the year for a brilliant cause. \nContact Maggies direct to arrange your tables!
URL:https://www.totico.co.uk/event/charity-event-aberdeen-tbc-2/
LOCATION:Chester Hotel\, 55-63 Queens Road\, Aberdeen\, AB15 4YP\, United Kingdom
CATEGORIES:Public,Ticketed
ATTACH;FMTTYPE=image/png:https://www.totico.co.uk/wp-content/uploads/2024/03/MaggiesOrangeBallSaveDate.png
ORGANIZER;CN="Maggies Aberdeen":MAILTO:aberdeenfundraising@maggies.org
END:VEVENT
BEGIN:VEVENT
DTSTART;VALUE=DATE:20240817
DTEND;VALUE=DATE:20240818
DTSTAMP:20260421T123401
CREATED:20240401T083650Z
LAST-MODIFIED:20240430T151345Z
UID:547-1723852800-1723939199@www.totico.co.uk
SUMMARY:Kingennie Festival
DESCRIPTION:
URL:https://www.totico.co.uk/event/kingennie-festival-2/
LOCATION:Forbes Of Kingennie Country Resort\, Kingennie\, Broughty Ferry\, Dundee\, DD5 3RD\, United Kingdom
CATEGORIES:Public,Ticketed
ORGANIZER;CN="Forbes Of Kingennie Country Resort":MAILTO:events@forbesofkingennie.com
END:VEVENT
BEGIN:VEVENT
DTSTART;TZID=Europe/London:20240407T130000
DTEND;TZID=Europe/London:20240407T170000
DTSTAMP:20260421T123401
CREATED:20240128T170040Z
LAST-MODIFIED:20240128T170040Z
UID:514-1712494800-1712509200@www.totico.co.uk
SUMMARY:Wedding Fayre
DESCRIPTION:Come and meet us at \nCulter Mills Social Club Social Club
URL:https://www.totico.co.uk/event/wedding-fayre/
LOCATION:Culter Mills Social Club\, 25 School Crescent\, Peterculter\, AB14 0QJ\, United Kingdom
CATEGORIES:Public
ATTACH;FMTTYPE=image/jpeg:https://www.totico.co.uk/wp-content/uploads/2024/01/Culter-Mills-Wedding-Fayre-Ad.jpg
END:VEVENT
BEGIN:VEVENT
DTSTART;VALUE=DATE:20231125
DTEND;VALUE=DATE:20231126
DTSTAMP:20260421T123401
CREATED:20230829T214350Z
LAST-MODIFIED:20230829T214553Z
UID:107-1700870400-1700956799@www.totico.co.uk
SUMMARY:Murdos Aberdeen
DESCRIPTION:Come and have a party at Murdos in Aberdeen.\nThey also have good food.\nAlways an ace night!
URL:https://www.totico.co.uk/event/murdos-aberdeen/
LOCATION:Murdos Aberdeen\, Cairncry Road\, Aberdeen\, AB16 5UR\, United Kingdom
CATEGORIES:Public
END:VEVENT
END:VCALENDAR