BEGIN:VCALENDAR
VERSION:2.0
PRODID:-//TOTICO - ECPv6.15.20//NONSGML v1.0//EN
CALSCALE:GREGORIAN
METHOD:PUBLISH
X-WR-CALNAME:TOTICO
X-ORIGINAL-URL:https://www.totico.co.uk
X-WR-CALDESC:Events for TOTICO
REFRESH-INTERVAL;VALUE=DURATION:PT1H
X-Robots-Tag:noindex
X-PUBLISHED-TTL:PT1H
BEGIN:VTIMEZONE
TZID:Europe/London
BEGIN:DAYLIGHT
TZOFFSETFROM:+0000
TZOFFSETTO:+0100
TZNAME:BST
DTSTART:20220327T010000
END:DAYLIGHT
BEGIN:STANDARD
TZOFFSETFROM:+0100
TZOFFSETTO:+0000
TZNAME:GMT
DTSTART:20221030T010000
END:STANDARD
BEGIN:DAYLIGHT
TZOFFSETFROM:+0000
TZOFFSETTO:+0100
TZNAME:BST
DTSTART:20230326T010000
END:DAYLIGHT
BEGIN:STANDARD
TZOFFSETFROM:+0100
TZOFFSETTO:+0000
TZNAME:GMT
DTSTART:20231029T010000
END:STANDARD
BEGIN:DAYLIGHT
TZOFFSETFROM:+0000
TZOFFSETTO:+0100
TZNAME:BST
DTSTART:20240331T010000
END:DAYLIGHT
BEGIN:STANDARD
TZOFFSETFROM:+0100
TZOFFSETTO:+0000
TZNAME:GMT
DTSTART:20241027T010000
END:STANDARD
BEGIN:DAYLIGHT
TZOFFSETFROM:+0000
TZOFFSETTO:+0100
TZNAME:BST
DTSTART:20250330T010000
END:DAYLIGHT
BEGIN:STANDARD
TZOFFSETFROM:+0100
TZOFFSETTO:+0000
TZNAME:GMT
DTSTART:20251026T010000
END:STANDARD
BEGIN:DAYLIGHT
TZOFFSETFROM:+0000
TZOFFSETTO:+0100
TZNAME:BST
DTSTART:20260329T010000
END:DAYLIGHT
BEGIN:STANDARD
TZOFFSETFROM:+0100
TZOFFSETTO:+0000
TZNAME:GMT
DTSTART:20261025T010000
END:STANDARD
END:VTIMEZONE
BEGIN:VEVENT
DTSTART;VALUE=DATE:20251231
DTEND;VALUE=DATE:20260101
DTSTAMP:20260421T170827
CREATED:20241112T224820Z
LAST-MODIFIED:20250120T184142Z
UID:639-1767139200-1767225599@www.totico.co.uk
SUMMARY:The Big 2025 New Years Eve Party
DESCRIPTION:See in 2026 at a party with us at Culter Mills Social Club
URL:https://www.totico.co.uk/event/the-big-2025-new-years-eve-party/
LOCATION:Culter Mills Social Club\, 25 School Crescent\, Peterculter\, AB14 0QJ\, United Kingdom
CATEGORIES:Ticketed
END:VEVENT
BEGIN:VEVENT
DTSTART;VALUE=DATE:20250906
DTEND;VALUE=DATE:20250907
DTSTAMP:20260421T170827
CREATED:20241112T224141Z
LAST-MODIFIED:20241112T224313Z
UID:632-1757116800-1757203199@www.totico.co.uk
SUMMARY:Maggies Ball - 2025
DESCRIPTION:Maggies is such an important charity\, we are honoured to support this ball again this year.\nGet tickets from Maggies
URL:https://www.totico.co.uk/event/maggies-ball-2025/
LOCATION:Chester Hotel\, 55-63 Queens Road\, Aberdeen\, AB15 4YP\, United Kingdom
CATEGORIES:Public,Ticketed
ORGANIZER;CN="Maggies Aberdeen":MAILTO:aberdeenfundraising@maggies.org
END:VEVENT
BEGIN:VEVENT
DTSTART;VALUE=DATE:20250823
DTEND;VALUE=DATE:20250824
DTSTAMP:20260421T170827
CREATED:20241112T223912Z
LAST-MODIFIED:20241112T224244Z
UID:630-1755907200-1755993599@www.totico.co.uk
SUMMARY:Kingennie Music Festival 2025
DESCRIPTION:Always an ace event this.\nGet yourself along and have a great day out.\nWe play 1800 to 1930.
URL:https://www.totico.co.uk/event/kingennie-music-festival/
LOCATION:Forbes Of Kingennie Country Resort\, Kingennie\, Broughty Ferry\, Dundee\, DD5 3RD\, United Kingdom
CATEGORIES:Public,Ticketed
ORGANIZER;CN="Forbes Of Kingennie Country Resort":MAILTO:events@forbesofkingennie.com
END:VEVENT
BEGIN:VEVENT
DTSTART;TZID=Europe/London:20250817T150000
DTEND;TZID=Europe/London:20250817T180000
DTSTAMP:20260421T170827
CREATED:20250519T205717Z
LAST-MODIFIED:20250804T095036Z
UID:690-1755442800-1755453600@www.totico.co.uk
SUMMARY:The Black Bull - Ayr
DESCRIPTION:This is another new venue for us.\nIts also on the other coast 🙂\nWe are sooo looking forward to this though.
URL:https://www.totico.co.uk/event/the-black-bull-ayr/
LOCATION:Black Bull\, River Street\, Ayr\, KA80AX\, United Kingdom
CATEGORIES:Ticketed
ATTACH;FMTTYPE=image/jpeg:https://www.totico.co.uk/wp-content/uploads/Black-Bull.jpeg
ORGANIZER;CN="Black Bull":MAILTO:stephenmcguire131070@gmail.com
END:VEVENT
BEGIN:VEVENT
DTSTART;VALUE=DATE:20240907
DTEND;VALUE=DATE:20240908
DTSTAMP:20260421T170827
CREATED:20240128T170326Z
LAST-MODIFIED:20240304T104022Z
UID:523-1725667200-1725753599@www.totico.co.uk
SUMMARY:Maggies Ball - Aberdeen
DESCRIPTION:One of the highlights of the year for a brilliant cause. \nContact Maggies direct to arrange your tables!
URL:https://www.totico.co.uk/event/charity-event-aberdeen-tbc-2/
LOCATION:Chester Hotel\, 55-63 Queens Road\, Aberdeen\, AB15 4YP\, United Kingdom
CATEGORIES:Public,Ticketed
ATTACH;FMTTYPE=image/png:https://www.totico.co.uk/wp-content/uploads/2024/03/MaggiesOrangeBallSaveDate.png
ORGANIZER;CN="Maggies Aberdeen":MAILTO:aberdeenfundraising@maggies.org
END:VEVENT
BEGIN:VEVENT
DTSTART;VALUE=DATE:20240817
DTEND;VALUE=DATE:20240818
DTSTAMP:20260421T170827
CREATED:20240401T083650Z
LAST-MODIFIED:20240430T151345Z
UID:547-1723852800-1723939199@www.totico.co.uk
SUMMARY:Kingennie Festival
DESCRIPTION:
URL:https://www.totico.co.uk/event/kingennie-festival-2/
LOCATION:Forbes Of Kingennie Country Resort\, Kingennie\, Broughty Ferry\, Dundee\, DD5 3RD\, United Kingdom
CATEGORIES:Public,Ticketed
ORGANIZER;CN="Forbes Of Kingennie Country Resort":MAILTO:events@forbesofkingennie.com
END:VEVENT
BEGIN:VEVENT
DTSTART;VALUE=DATE:20231202
DTEND;VALUE=DATE:20231203
DTSTAMP:20260421T170827
CREATED:20230829T215248Z
LAST-MODIFIED:20230829T215550Z
UID:114-1701475200-1701561599@www.totico.co.uk
SUMMARY:Lethem Village Hall - Xmas Party
DESCRIPTION:Christmas party at one of our favourite venues.\nThis is always so much fun.\nGet your tickets from the hall direct\, this will sell out.
URL:https://www.totico.co.uk/event/lethem-village-hall-xmas-party/
LOCATION:Lethem Village Hall\, Auldbar Road\, Lethem\, Angus\, DD8 2DP\, United Kingdom
CATEGORIES:Ticketed
ATTACH;FMTTYPE=image/png:https://www.totico.co.uk/wp-content/uploads/2023/08/xmas-tree-e1693346133353.png
ORGANIZER;CN="Lethem Village Hall":MAILTO:lethamvillagehall@gmail.com
END:VEVENT
BEGIN:VEVENT
DTSTART;VALUE=DATE:20230909
DTEND;VALUE=DATE:20230910
DTSTAMP:20260421T170827
CREATED:20230829T210005Z
LAST-MODIFIED:20230829T213703Z
UID:88-1694217600-1694303999@www.totico.co.uk
SUMMARY:Maggie’s Aberdeen 10th Anniversary Ball
DESCRIPTION:  \nCelebrating 10 years of Maggie’s in Aberdeen. \nFor Tickets please contact Maggie’s direct (info below)
URL:https://www.totico.co.uk/event/maggies-10th-anniversary-ball/
LOCATION:Chester Hotel\, 55-63 Queens Road\, Aberdeen\, AB15 4YP\, United Kingdom
CATEGORIES:Ticketed
ATTACH;FMTTYPE=image/jpeg:https://www.totico.co.uk/wp-content/uploads/2023/08/369628686_10160149084294833_8033058715731160997_n.jpg
ORGANIZER;CN="Maggies Aberdeen":MAILTO:aberdeenfundraising@maggies.org
END:VEVENT
BEGIN:VEVENT
DTSTART;VALUE=DATE:20230819
DTEND;VALUE=DATE:20230820
DTSTAMP:20260421T170827
CREATED:20230830T203251Z
LAST-MODIFIED:20230830T203251Z
UID:168-1692403200-1692489599@www.totico.co.uk
SUMMARY:Kingennie Festival
DESCRIPTION:Music festival in aid of Make-A-Wish Foundation
URL:https://www.totico.co.uk/event/kingennie-festival/
LOCATION:Forbes Of Kingennie Country Resort\, Kingennie\, Broughty Ferry\, Dundee\, DD5 3RD\, United Kingdom
CATEGORIES:Ticketed
ORGANIZER;CN="Forbes Of Kingennie Country Resort":MAILTO:events@forbesofkingennie.com
END:VEVENT
END:VCALENDAR